BEGIN:VCALENDAR
VERSION:2.0
PRODID:-//Blue John Music - ECPv6.15.20//NONSGML v1.0//EN
CALSCALE:GREGORIAN
METHOD:PUBLISH
X-ORIGINAL-URL:https://bluejohnmusic.co.uk
X-WR-CALDESC:Events for Blue John Music
REFRESH-INTERVAL;VALUE=DURATION:PT1H
X-Robots-Tag:noindex
X-PUBLISHED-TTL:PT1H
BEGIN:VTIMEZONE
TZID:UTC
BEGIN:STANDARD
TZOFFSETFROM:+0000
TZOFFSETTO:+0000
TZNAME:UTC
DTSTART:20240101T000000
END:STANDARD
END:VTIMEZONE
BEGIN:VEVENT
DTSTART;TZID=UTC:20251206T190000
DTEND;TZID=UTC:20251206T235900
DTSTAMP:20260420T034256
CREATED:20250828T190927Z
LAST-MODIFIED:20251031T155545Z
UID:641-1765047600-1765065540@bluejohnmusic.co.uk
SUMMARY:Dance in the Pews
DESCRIPTION:To book tickets online – click the logo below \n \n  \n 
URL:https://bluejohnmusic.co.uk/event/st-michael-and-all-angels/
LOCATION:St Michael and All Angels’ Church\, Wood Lane\, Off Main Street\, Sheldon\, Derbyshire\, DE45 1QS\, United Kingdom
END:VEVENT
BEGIN:VEVENT
DTSTART;VALUE=DATE:20251212
DTEND;VALUE=DATE:20251213
DTSTAMP:20260420T034256
CREATED:20251018T115658Z
LAST-MODIFIED:20251018T115658Z
UID:666-1765497600-1765583999@bluejohnmusic.co.uk
SUMMARY:Private Event
DESCRIPTION:
URL:https://bluejohnmusic.co.uk/event/private-event-6/
LOCATION:Staffordshire
END:VEVENT
BEGIN:VEVENT
DTSTART;TZID=UTC:20251220T193000
DTEND;TZID=UTC:20251220T235900
DTSTAMP:20260420T034256
CREATED:20251018T115730Z
LAST-MODIFIED:20251105T182117Z
UID:668-1766259000-1766275140@bluejohnmusic.co.uk
SUMMARY:The Restaurant @ The Renishaw Rooms
DESCRIPTION:
URL:https://bluejohnmusic.co.uk/event/renishaw-rooms/
LOCATION:The Restaurant – Renishaw Rooms\, 1 Barbers Row\, Renishaw\, Sheffield\, South Yorkshire\, S21 3UA\, United Kingdom
END:VEVENT
BEGIN:VEVENT
DTSTART;VALUE=DATE:20251231
DTEND;VALUE=DATE:20260101
DTSTAMP:20260420T034256
CREATED:20250317T175105Z
LAST-MODIFIED:20250828T192227Z
UID:423-1767139200-1767225599@bluejohnmusic.co.uk
SUMMARY:Rolleston Club - New Year's Eve 2025
DESCRIPTION:This is a public event. \nTickets will be available via the club\, with club members receiving priority ticket access.
URL:https://bluejohnmusic.co.uk/event/rolleston-club-new-years-eve-2025/
LOCATION:Rolleston Club\, 15 Burnside\, Rolleston\, Burton upon Trent\, Staffordshire\, DE13 9DN\, United Kingdom
END:VEVENT
BEGIN:VEVENT
DTSTART;TZID=UTC:20260306T183000
DTEND;TZID=UTC:20260306T223000
DTSTAMP:20260420T034256
CREATED:20260120T232308Z
LAST-MODIFIED:20260120T232308Z
UID:764-1772821800-1772836200@bluejohnmusic.co.uk
SUMMARY:Burton Rotary Club Charter Night
DESCRIPTION:
URL:https://bluejohnmusic.co.uk/event/burton-rotary-club-charter-night/
LOCATION:Pirelli Stadium\, Pirelli Stadium\, Princess Way\, Burton-upon-Trent\, Staffordshire\, DE13 0AR\, United Kingdom
END:VEVENT
BEGIN:VEVENT
DTSTART;TZID=UTC:20260411T210000
DTEND;TZID=UTC:20260411T233000
DTSTAMP:20260420T034256
CREATED:20260126T172049Z
LAST-MODIFIED:20260409T200317Z
UID:779-1775941200-1775950200@bluejohnmusic.co.uk
SUMMARY:Burton Banter - Burton upon Trent
DESCRIPTION:
URL:https://bluejohnmusic.co.uk/event/burton-banter-burton-upon-trent/
LOCATION:Burton Banter\, Unit 10/11\, Windsor Industrial Estate\, Hawkins Lane\, Burton upon Trent\, Staffordshire\, DE14 1QF\, United Kingdom
END:VEVENT
BEGIN:VEVENT
DTSTART;TZID=UTC:20260614T160000
DTEND;TZID=UTC:20260614T190000
DTSTAMP:20260420T034256
CREATED:20260120T232833Z
LAST-MODIFIED:20260126T171519Z
UID:768-1781452800-1781463600@bluejohnmusic.co.uk
SUMMARY:Groover's Arms - Ripley
DESCRIPTION:
URL:https://bluejohnmusic.co.uk/event/groovers-arms-ripley/
LOCATION:Groover’s Arms\, 153 Peasehill\, Ripley\, Derbyshire\, DE5 3JN\, United Kingdom
END:VEVENT
BEGIN:VEVENT
DTSTART;TZID=UTC:20260801T193000
DTEND;TZID=UTC:20260801T230000
DTSTAMP:20260420T034256
CREATED:20260120T232446Z
LAST-MODIFIED:20260120T232446Z
UID:766-1785612600-1785625200@bluejohnmusic.co.uk
SUMMARY:The Restaurant @ The Renishaw Rooms
DESCRIPTION:
URL:https://bluejohnmusic.co.uk/event/the-restaurant-the-renishaw-rooms/
LOCATION:The Restaurant – Renishaw Rooms\, 1 Barbers Row\, Renishaw\, Sheffield\, South Yorkshire\, S21 3UA\, United Kingdom
END:VEVENT
BEGIN:VEVENT
DTSTART;TZID=UTC:20260926T203000
DTEND;TZID=UTC:20260926T233000
DTSTAMP:20260420T034256
CREATED:20260409T200624Z
LAST-MODIFIED:20260409T200842Z
UID:819-1790454600-1790465400@bluejohnmusic.co.uk
SUMMARY:Rolleston Club - Burton upon Trent
DESCRIPTION:
URL:https://bluejohnmusic.co.uk/event/rolleston-club-burton-on-trent/
LOCATION:Rolleston Club\, 15 Burnside\, Rolleston\, Burton upon Trent\, Staffordshire\, DE13 9DN\, United Kingdom
END:VEVENT
BEGIN:VEVENT
DTSTART;VALUE=DATE:20261128
DTEND;VALUE=DATE:20261129
DTSTAMP:20260420T034256
CREATED:20260120T233219Z
LAST-MODIFIED:20260120T233219Z
UID:774-1795824000-1795910399@bluejohnmusic.co.uk
SUMMARY:Private Event
DESCRIPTION:
URL:https://bluejohnmusic.co.uk/event/private-event-8/
LOCATION:Staffordshire
END:VEVENT
BEGIN:VEVENT
DTSTART;VALUE=DATE:20261231
DTEND;VALUE=DATE:20270101
DTSTAMP:20260420T034256
CREATED:20260120T233137Z
LAST-MODIFIED:20260409T200658Z
UID:771-1798675200-1798761599@bluejohnmusic.co.uk
SUMMARY:The Turnpike - Lichfield - New Year's Eve 2026
DESCRIPTION:
URL:https://bluejohnmusic.co.uk/event/the-turnpike-new-years-eve-2026/
LOCATION:The Turnpike\, Ryknild St\, Lichfield\, Staffordshire\, WS14 9XU\, United Kingdom
END:VEVENT
END:VCALENDAR