BEGIN:VCALENDAR
VERSION:2.0
PRODID:-//Blue John Music - ECPv6.15.20//NONSGML v1.0//EN
CALSCALE:GREGORIAN
METHOD:PUBLISH
X-WR-CALNAME:Blue John Music
X-ORIGINAL-URL:https://bluejohnmusic.co.uk
X-WR-CALDESC:Events for Blue John Music
REFRESH-INTERVAL;VALUE=DURATION:PT1H
X-Robots-Tag:noindex
X-PUBLISHED-TTL:PT1H
BEGIN:VTIMEZONE
TZID:UTC
BEGIN:STANDARD
TZOFFSETFROM:+0000
TZOFFSETTO:+0000
TZNAME:UTC
DTSTART:20230101T000000
END:STANDARD
END:VTIMEZONE
BEGIN:VEVENT
DTSTART;VALUE=DATE:20250503
DTEND;VALUE=DATE:20250504
DTSTAMP:20260420T020657
CREATED:20241030T224005Z
LAST-MODIFIED:20241030T224005Z
UID:269-1746230400-1746316799@bluejohnmusic.co.uk
SUMMARY:Private Event
DESCRIPTION:
URL:https://bluejohnmusic.co.uk/event/private-event/
LOCATION:Leicestershire
END:VEVENT
BEGIN:VEVENT
DTSTART;TZID=UTC:20250315T203000
DTEND;TZID=UTC:20250315T233000
DTSTAMP:20260420T020657
CREATED:20241030T223922Z
LAST-MODIFIED:20250208T111710Z
UID:267-1742070600-1742081400@bluejohnmusic.co.uk
SUMMARY:Rolleston Club
DESCRIPTION:
URL:https://bluejohnmusic.co.uk/event/rolleston-club-2/
LOCATION:Rolleston Club\, 15 Burnside\, Rolleston\, Burton upon Trent\, Staffordshire\, DE13 9DN\, United Kingdom
END:VEVENT
BEGIN:VEVENT
DTSTART;VALUE=DATE:20250228
DTEND;VALUE=DATE:20250301
DTSTAMP:20260420T020657
CREATED:20250208T111448Z
LAST-MODIFIED:20250208T111448Z
UID:359-1740700800-1740787199@bluejohnmusic.co.uk
SUMMARY:Private Event
DESCRIPTION:
URL:https://bluejohnmusic.co.uk/event/private-event-5/
LOCATION:Leicestershire
END:VEVENT
BEGIN:VEVENT
DTSTART;TZID=UTC:20241220T193000
DTEND;TZID=UTC:20241220T233000
DTSTAMP:20260420T020657
CREATED:20241030T222754Z
LAST-MODIFIED:20241030T222828Z
UID:250-1734723000-1734737400@bluejohnmusic.co.uk
SUMMARY:Little Eaton Christmas Dance
DESCRIPTION:
URL:https://bluejohnmusic.co.uk/event/little-eaton-christmas-dance/
LOCATION:Little Eaton Village Hall\, Little Eaton Village Hall\, Vicarage Lane\, Little Eaton\, Derby\, DE21 5EA\, United Kingdom
END:VEVENT
BEGIN:VEVENT
DTSTART;TZID=UTC:20241207T203000
DTEND;TZID=UTC:20241207T233000
DTSTAMP:20260420T020657
CREATED:20241030T222047Z
LAST-MODIFIED:20241030T223018Z
UID:246-1733603400-1733614200@bluejohnmusic.co.uk
SUMMARY:Rolleston Club
DESCRIPTION:
URL:https://bluejohnmusic.co.uk/event/rolleston-club/
LOCATION:Rolleston Club\, 15 Burnside\, Rolleston\, Burton upon Trent\, Staffordshire\, DE13 9DN\, United Kingdom
END:VEVENT
BEGIN:VEVENT
DTSTART;TZID=UTC:20240914T193000
DTEND;TZID=UTC:20240914T210000
DTSTAMP:20260420T020657
CREATED:20241101T125758Z
LAST-MODIFIED:20241101T125758Z
UID:351-1726342200-1726347600@bluejohnmusic.co.uk
SUMMARY:Party on the Pitch
DESCRIPTION:
URL:https://bluejohnmusic.co.uk/event/party-on-the-pitch/
LOCATION:Burton Rugby Club\, Battlestead Croft\, Branston Road\, Tatenhill\, Burton-upon-Trent\, Derbyshire\, DE13 9FF
END:VEVENT
BEGIN:VEVENT
DTSTART;TZID=UTC:20240831T180000
DTEND;TZID=UTC:20240831T220000
DTSTAMP:20260420T020657
CREATED:20241101T125442Z
LAST-MODIFIED:20241101T125442Z
UID:348-1725127200-1725141600@bluejohnmusic.co.uk
SUMMARY:The Plough Inn
DESCRIPTION:
URL:https://bluejohnmusic.co.uk/event/the-plough-inn/
LOCATION:The Plough Inn\, The Plough Inn\, Horninglow Road North\, Burton-upon-Trent\, Staffordshire\, DE13 0SZ\, United Kingdom
END:VEVENT
BEGIN:VEVENT
DTSTART;VALUE=DATE:20240712
DTEND;VALUE=DATE:20240713
DTSTAMP:20260420T020657
CREATED:20241101T123418Z
LAST-MODIFIED:20241101T123418Z
UID:346-1720742400-1720828799@bluejohnmusic.co.uk
SUMMARY:Private Event
DESCRIPTION:
URL:https://bluejohnmusic.co.uk/event/private-event-4/
LOCATION:Leicestershire
END:VEVENT
BEGIN:VEVENT
DTSTART;TZID=UTC:20240615T200000
DTEND;TZID=UTC:20240615T233000
DTSTAMP:20260420T020657
CREATED:20241101T123258Z
LAST-MODIFIED:20241101T123322Z
UID:341-1718481600-1718494200@bluejohnmusic.co.uk
SUMMARY:The Wyggeston
DESCRIPTION:
URL:https://bluejohnmusic.co.uk/event/the-wyggeston-burton/
LOCATION:The Wyggeston\, The Wyggeston\, Calais Road\, Burton-upon-Trent\, Staffordshire\, DE13 0UN\, United Kingdom
END:VEVENT
BEGIN:VEVENT
DTSTART;TZID=UTC:20240506T120000
DTEND;TZID=UTC:20240506T160000
DTSTAMP:20260420T020657
CREATED:20241101T122907Z
LAST-MODIFIED:20241101T122936Z
UID:338-1714996800-1715011200@bluejohnmusic.co.uk
SUMMARY:Hatton Village Carnival – Duck Race
DESCRIPTION:
URL:https://bluejohnmusic.co.uk/event/hatton-village-carnival-duck-race/
LOCATION:Hatton Duck Race\, Thistley Meadow\, Hatton\, Derbyshire\, DE65 5DZ\, United Kingdom
END:VEVENT
BEGIN:VEVENT
DTSTART;TZID=UTC:20240420T203000
DTEND;TZID=UTC:20240420T233000
DTSTAMP:20260420T020657
CREATED:20241101T122646Z
LAST-MODIFIED:20241101T122646Z
UID:336-1713645000-1713655800@bluejohnmusic.co.uk
SUMMARY:Rolleston Club
DESCRIPTION:
URL:https://bluejohnmusic.co.uk/event/rolleston-club-3/
LOCATION:Rolleston Club\, 15 Burnside\, Rolleston\, Burton upon Trent\, Staffordshire\, DE13 9DN\, United Kingdom
END:VEVENT
BEGIN:VEVENT
DTSTART;VALUE=DATE:20240413
DTEND;VALUE=DATE:20240414
DTSTAMP:20260420T020657
CREATED:20241101T122515Z
LAST-MODIFIED:20241101T122515Z
UID:334-1712966400-1713052799@bluejohnmusic.co.uk
SUMMARY:Private Event
DESCRIPTION:
URL:https://bluejohnmusic.co.uk/event/private-event-3/
LOCATION:Leicestershire
END:VEVENT
END:VCALENDAR