BEGIN:VCALENDAR
VERSION:2.0
PRODID:-//Blue John Music - ECPv6.15.20//NONSGML v1.0//EN
CALSCALE:GREGORIAN
METHOD:PUBLISH
X-WR-CALNAME:Blue John Music
X-ORIGINAL-URL:https://bluejohnmusic.co.uk
X-WR-CALDESC:Events for Blue John Music
REFRESH-INTERVAL;VALUE=DURATION:PT1H
X-Robots-Tag:noindex
X-PUBLISHED-TTL:PT1H
BEGIN:VTIMEZONE
TZID:UTC
BEGIN:STANDARD
TZOFFSETFROM:+0000
TZOFFSETTO:+0000
TZNAME:UTC
DTSTART:20230101T000000
END:STANDARD
END:VTIMEZONE
BEGIN:VEVENT
DTSTART;TZID=UTC:20240914T193000
DTEND;TZID=UTC:20240914T210000
DTSTAMP:20260425T014901
CREATED:20241101T125758Z
LAST-MODIFIED:20241101T125758Z
UID:351-1726342200-1726347600@bluejohnmusic.co.uk
SUMMARY:Party on the Pitch
DESCRIPTION:
URL:https://bluejohnmusic.co.uk/event/party-on-the-pitch/
LOCATION:Burton Rugby Club\, Battlestead Croft\, Branston Road\, Tatenhill\, Burton-upon-Trent\, Derbyshire\, DE13 9FF
END:VEVENT
END:VCALENDAR