BEGIN:VCALENDAR
VERSION:2.0
PRODID:-//Blue John Music - ECPv6.15.20//NONSGML v1.0//EN
CALSCALE:GREGORIAN
METHOD:PUBLISH
X-WR-CALNAME:Blue John Music
X-ORIGINAL-URL:https://bluejohnmusic.co.uk
X-WR-CALDESC:Events for Blue John Music
REFRESH-INTERVAL;VALUE=DURATION:PT1H
X-Robots-Tag:noindex
X-PUBLISHED-TTL:PT1H
BEGIN:VTIMEZONE
TZID:UTC
BEGIN:STANDARD
TZOFFSETFROM:+0000
TZOFFSETTO:+0000
TZNAME:UTC
DTSTART:20240101T000000
END:STANDARD
END:VTIMEZONE
BEGIN:VEVENT
DTSTART;VALUE=DATE:20250801
DTEND;VALUE=DATE:20250802
DTSTAMP:20260420T065323
CREATED:20241030T224243Z
LAST-MODIFIED:20250530T012521Z
UID:271-1754006400-1754092799@bluejohnmusic.co.uk
SUMMARY:Cromford Steam Rally
DESCRIPTION:We will be the Friday night entertainment.
URL:https://bluejohnmusic.co.uk/event/cromford-steam-rally/
LOCATION:Cromford Steam Rally\, Highacres Farm\, Dewey Lane\, Brackenfield\, Derbyshire\, DE55 6DB\, United Kingdom
END:VEVENT
BEGIN:VEVENT
DTSTART;VALUE=DATE:20250824
DTEND;VALUE=DATE:20250825
DTSTAMP:20260420T065323
CREATED:20241030T224651Z
LAST-MODIFIED:20241030T224651Z
UID:274-1755993600-1756079999@bluejohnmusic.co.uk
SUMMARY:Private Event
DESCRIPTION:
URL:https://bluejohnmusic.co.uk/event/private-event-2/
LOCATION:Staffordshire
END:VEVENT
BEGIN:VEVENT
DTSTART;VALUE=DATE:20250831
DTEND;VALUE=DATE:20250901
DTSTAMP:20260420T065323
CREATED:20250530T010216Z
LAST-MODIFIED:20250530T010751Z
UID:479-1756598400-1756684799@bluejohnmusic.co.uk
SUMMARY:The Donkey Garden
DESCRIPTION:
URL:https://bluejohnmusic.co.uk/event/the-donkey-garden/
LOCATION:The Donkey Garden\, 203 Welford Road\, Leicester\, Leicestershire\, LE2 6BH\, United Kingdom
END:VEVENT
END:VCALENDAR