BEGIN:VCALENDAR
VERSION:2.0
PRODID:-//Blue John Music - ECPv6.15.20//NONSGML v1.0//EN
CALSCALE:GREGORIAN
METHOD:PUBLISH
X-WR-CALNAME:Blue John Music
X-ORIGINAL-URL:https://bluejohnmusic.co.uk
X-WR-CALDESC:Events for Blue John Music
REFRESH-INTERVAL;VALUE=DURATION:PT1H
X-Robots-Tag:noindex
X-PUBLISHED-TTL:PT1H
BEGIN:VTIMEZONE
TZID:UTC
BEGIN:STANDARD
TZOFFSETFROM:+0000
TZOFFSETTO:+0000
TZNAME:UTC
DTSTART:20240101T000000
END:STANDARD
END:VTIMEZONE
BEGIN:VEVENT
DTSTART;VALUE=DATE:20251115
DTEND;VALUE=DATE:20251116
DTSTAMP:20260420T015742
CREATED:20250730T171310Z
LAST-MODIFIED:20250831T225908Z
UID:604-1763164800-1763251199@bluejohnmusic.co.uk
SUMMARY:The Footprints Family - Annual Charity Ball
DESCRIPTION:For more information about The Footprints Family\, visit www.footprintsfamily.com. \n 
URL:https://bluejohnmusic.co.uk/event/the-footprints-family-annual-charity-ball/
LOCATION:Pirelli Stadium\, Pirelli Stadium\, Princess Way\, Burton-upon-Trent\, Staffordshire\, DE13 0AR\, United Kingdom
ORGANIZER;CN="The Footprints Family":MAILTO:vsr.footprints@gmail.com
END:VEVENT
BEGIN:VEVENT
DTSTART;VALUE=DATE:20251129
DTEND;VALUE=DATE:20251130
DTSTAMP:20260420T015742
CREATED:20250604T214151Z
LAST-MODIFIED:20250604T224643Z
UID:534-1764374400-1764460799@bluejohnmusic.co.uk
SUMMARY:Private Event
DESCRIPTION:
URL:https://bluejohnmusic.co.uk/event/hanbury-memorial-hall/
LOCATION:Staffordshire
END:VEVENT
END:VCALENDAR