BEGIN:VCALENDAR
VERSION:2.0
PRODID:-//Blue John Music - ECPv6.15.20//NONSGML v1.0//EN
CALSCALE:GREGORIAN
METHOD:PUBLISH
X-WR-CALNAME:Blue John Music
X-ORIGINAL-URL:https://bluejohnmusic.co.uk
X-WR-CALDESC:Events for Blue John Music
REFRESH-INTERVAL;VALUE=DURATION:PT1H
X-Robots-Tag:noindex
X-PUBLISHED-TTL:PT1H
BEGIN:VTIMEZONE
TZID:UTC
BEGIN:STANDARD
TZOFFSETFROM:+0000
TZOFFSETTO:+0000
TZNAME:UTC
DTSTART:20250101T000000
END:STANDARD
END:VTIMEZONE
BEGIN:VEVENT
DTSTART;TZID=UTC:20260614T160000
DTEND;TZID=UTC:20260614T190000
DTSTAMP:20260419T205643
CREATED:20260120T232833Z
LAST-MODIFIED:20260126T171519Z
UID:768-1781452800-1781463600@bluejohnmusic.co.uk
SUMMARY:Groover's Arms - Ripley
DESCRIPTION:
URL:https://bluejohnmusic.co.uk/event/groovers-arms-ripley/
LOCATION:Groover’s Arms\, 153 Peasehill\, Ripley\, Derbyshire\, DE5 3JN\, United Kingdom
END:VEVENT
END:VCALENDAR